Workbook
Name Slicer_Form: #N/A

Sheet ALL CLAIMS MASTER FILE
C3: Click Here --------->
A6: S. No. | B6: Form | C6: Name of the Creditor | D6: Date of Receipt | E6: Prinipal | F6: Interest | G6: Others, if any | H6: Claim As per Form | I6: Currency | J6: Foreign Currency Exchange Rate | K6: Total Amount Claimed | L6: Amount As per CD Books | M6: Amount of Claim Admitted | N6: Whether Related Party | O6: Nature of Relation | P6: Amount of Claim Not Admitted | Q6: Amount of Claim Pending for Verification | R6: Name of AR | S6: PAN / Aadhar / Passport / Voter ID / CIN of the creditor or AR | T6: Address | U6: Email | V6: Cellphone No.
A7: 1 | B7: B - Operation Creditor | C7: Ingram Micro India Pvivate Limited | D7: 44840 | E7: 185336116 | F7: 179705403 | G7: 590 | H7: =(Table11[[#This Row],[Prinipal]]+Table11[[#This Row],[Interest]]+Table11[[#This Row],[Others, if any]]) -> 365042109 | I7: INR | J7: 1 | K7: =(Table11[[#This Row],[Claim As per Form]]*Table11[[#This Row],[Foreign Currency Exchange Rate]]) -> 365042109 | M7: 138700785 | N7: Unrelated | O7: NA | Q7: =SUM(K7,-M7,-P7) -> 226341324 | R7: Nagendra Pal Goel | S7: U72900MH1996PTC136340 | T7: 5th Floor, Empire Plaza, Building A, LBS Marg, Vikhroli West, Mumbai - 400083 | U7: nagendrapal.goel@ingrammicro.com sujit.keshri@ingrammicro.com | AN7: Drop Down Data(Don’t Touch)
A8: 2 | B8: B - Operation Creditor | C8: Ivalue Infosolutions Private Limited | D8: 44844 | E8: 17829037 | F8: 15972881 | G8: 0 | H8: =(Table11[[#This Row],[Prinipal]]+Table11[[#This Row],[Interest]]+Table11[[#This Row],[Others, if any]]) -> 33801918 | I8: INR | J8: 1 | K8: =(Table11[[#This Row],[Claim As per Form]]*Table11[[#This Row],[Foreign Currency Exchange Rate]]) -> 33801918 | M8: 33801918 | N8: Unrelated | O8: NA | Q8: =SUM(K8,-M8,-P8) -> 0 | R8: Krishna Raj Sharma | S8: U72200KA2008PTC045995 | T8: #1140, 3rd Floor, VGR Essor, 6th Main, 17th Cross, Sector - 7, HSR Layout, Bangalore - 560102 | U8: lakshmi.urs@ivalue.co.in | V8: 7022859769 | AN8: Select Here
A9: 3 | B9: E - AR of Workman/Employee | C9: Chitturi Srikanth | D9: 44844 | E9: 2563222 | F9: 0 | G9: 0 | H9: =(Table11[[#This Row],[Prinipal]]+Table11[[#This Row],[Interest]]+Table11[[#This Row],[Others, if any]]) -> 2563222 | I9: INR | J9: 1 | K9: =(Table11[[#This Row],[Claim As per Form]]*Table11[[#This Row],[Foreign Currency Exchange Rate]]) -> 2563222 | M9: 0 | N9: Unrelated | O9: NA | Q9: =SUM(K9,-M9,-P9) -> 2563222 | S9: 6702 2815 7924 (Aadhaar No.) | T9: Flat No. 202, Ratnam Residency, 1st Lane, krishna Nagar, Guntur, Andhrapradesh - 522006 | U9: srikanth418@gmail.com | AN9: B - Operation Creditor
A10: 4 | B10: B - Operation Creditor | C10: Prakash Electricals | D10: 44844 | E10: 1710365 | F10: 359170 | G10: 0 | H10: =(Table11[[#This Row],[Prinipal]]+Table11[[#This Row],[Interest]]+Table11[[#This Row],[Others, if any]]) -> 2069535 | I10: INR | J10: 1 | K10: =(Table11[[#This Row],[Claim As per Form]]*Table11[[#This Row],[Foreign Currency Exchange Rate]]) -> 2069535 | N10: Unrelated | O10: NA | Q10: =SUM(K10,-M10,-P10) -> 2069535 | S10: 1CL104303HVR | T10: Prakash Sangammanavar, 404A/4 sullmatti subhas circle ambedakar circle- Haveri town-581110 | U10: prakash.sangam86@gmail.com | V10: 9060981510 | AN10: C - Financial Creditor
A11: 5 | B11: E - AR of Workman/Employee | C11: Puthiya Chirackal Abdul Nazeer | D11: 44844 | E11: =(94848+18060) -> 112908 | F11: 0 | G11: 0 | H11: =(Table11[[#This Row],[Prinipal]]+Table11[[#This Row],[Interest]]+Table11[[#This Row],[Others, if any]]) -> 112908 | I11: INR | J11: 1 | K11: =(Table11[[#This Row],[Claim As per Form]]*Table11[[#This Row],[Foreign Currency Exchange Rate]]) -> 112908 | M11: 0 | N11: Unrelated | O11: NA | Q11: =SUM(K11,-M11,-P11) -> 112908 | S11: 549711290556(Aadhar no.) | T11: MIG-589, D.No. 18-61-23, APHB Colony, Pedagantyada,Visakhapatnam, Andhra Pradesh-530044. | U11: abdulnazeer7865@gmail.com | AN11: CA - Financial Creditor in a Class
A12: 6 | B12: E - AR of Workman/Employee | C12: B Sanjeev Kumar | D12: 44844 | E12: 412041 | F12: 0 | G12: 33228 | H12: =(Table11[[#This Row],[Prinipal]]+Table11[[#This Row],[Interest]]+Table11[[#This Row],[Others, if any]]) -> 445269 | I12: INR | J12: 1 | K12: =(Table11[[#This Row],[Claim As per Form]]*Table11[[#This Row],[Foreign Currency Exchange Rate]]) -> 445269 | M12: 0 | N12: Unrelated | O12: NA | Q12: =SUM(K12,-M12,-P12) -> 445269 | S12: 549711290556 (Aadhar Number) | T12: C/O Karanam Lavanya, D.No. 9-125A, P Kothapalli, Atmakur, Anantapur, Andhra Pradesh-515751. | U12: sanjeev0269@gmail.com | V12: 9742479784 | AN12: D - Workman/Employee
A13: 7 | B13: E - AR of Workman/Employee | C13: Nori Goutham Kumar | D13: 44844 | E13: 128935 | F13: 0 | G13: 0 | H13: =(Table11[[#This Row],[Prinipal]]+Table11[[#This Row],[Interest]]+Table11[[#This Row],[Others, if any]]) -> 128935 | I13: INR | J13: 1 | K13: =(Table11[[#This Row],[Claim As per Form]]*Table11[[#This Row],[Foreign Currency Exchange Rate]]) -> 128935 | M13: 0 | N13: Unrelated | O13: NA | Q13: =SUM(K13,-M13,-P13) -> 128935 | S13: 5676 5083 6697 (AADHAAR CARD) | T13: Dr No:2-15-50, Sector-9, MVP Colony, Visakhapatnam, Andhra Pradesh-530017 | U13: goutham.nori@gmail.com | V13: 9949664478 | AN13: E - AR of Workman/Employee
A14: 8 | B14: B - Operation Creditor | C14: Darapaneni & Co. | D14: 44844 | E14: 1258240 | F14: 0 | G14: 0 | H14: =(Table11[[#This Row],[Prinipal]]+Table11[[#This Row],[Interest]]+Table11[[#This Row],[Others, if any]]) -> 1258240 | I14: INR | J14: 1 | K14: =(Table11[[#This Row],[Claim As per Form]]*Table11[[#This Row],[Foreign Currency Exchange Rate]]) -> 1258240 | N14: Unrelated | O14: NA | Q14: =SUM(K14,-M14,-P14) -> 1258240 | S14: AAGFD6406 | T14: 8-3-1047/1-A, Rama Apartments, Srinagar Colony, Hyderabad - 500073 | U14: darapaneni1986@gmail.com | V14: 8121499387 | AN14: F - Other than FC&OC
A15: 9 | B15: C - Financial Creditor | C15: Viplav Kumar V L S | D15: 44844 | E15: 8559632 | F15: 1540734 | G15: 0 | H15: =(Table11[[#This Row],[Prinipal]]+Table11[[#This Row],[Interest]]+Table11[[#This Row],[Others, if any]]) -> 10100366 | I15: INR | J15: 1 | K15: =(Table11[[#This Row],[Claim As per Form]]*Table11[[#This Row],[Foreign Currency Exchange Rate]]) -> 10100366 | N15: Related | O15: Ex Director | Q15: =SUM(K15,-M15,-P15) -> 10100366 | S15: 5797 0991 2784 (Aadhaar no) | T15: #3683/17A/15, Anjaneya Layout, Davanagere, Karnataka,India 577004 | U15: Lucky.viplav@gmail.com
A16: 10 | B16: D - Workman/Employee | C16: Viplav umar V L S | D16: 44844 | E16: =(2400000+2332000) -> 4732000 | F16: 0 | G16: 0 | H16: =(Table11[[#This Row],[Prinipal]]+Table11[[#This Row],[Interest]]+Table11[[#This Row],[Others, if any]]) -> 4732000 | I16: INR | J16: 1 | K16: =(Table11[[#This Row],[Claim As per Form]]*Table11[[#This Row],[Foreign Currency Exchange Rate]]) -> 4732000 | M16: 0 | N16: Related | O16: Ex Director | Q16: =SUM(K16,-M16,-P16) -> 4732000 | S16: 5798 0991 2784 (Aadhaar no) | T16: #3683/17A/15, Anjaneya Layout, Davanagere,Karnataka, India 577004 | U16: Lucky.viplav@gmail.com
A17: 11 | B17: B - Operation Creditor | C17: JRA & Associates LLP | D17: 44844 | E17: 699540 | F17: 0 | G17: 0 | H17: =(Table11[[#This Row],[Prinipal]]+Table11[[#This Row],[Interest]]+Table11[[#This Row],[Others, if any]]) -> 699540 | I17: INR | J17: 1 | K17: =(Table11[[#This Row],[Claim As per Form]]*Table11[[#This Row],[Foreign Currency Exchange Rate]]) -> 699540 | M17: 699540 | N17: Unrelated | O17: NA | Q17: =SUM(K17,-M17,-P17) -> 0 | R17: CS Jaipal Reddy Naidi, Designated Partner | S17: 7503 2165 5734 (Aadhaar No.) | T17: JRA & Associates LLP, Flat No. 201, Brindavanam, Plot No. 428, Road No. 9, kakatiya Hills, Madhapur, Hyderabad, Telangan 500081 | U17: cs@jracs.in jp@jracs.in | V17: 4043461122 9951355428
A18: 12 | B18: D - Workman/Employee | C18: Palempati Narendranadh Chowdary | D18: 44844 | E18: 56542 | F18: 0 | G18: 0 | H18: =(Table11[[#This Row],[Prinipal]]+Table11[[#This Row],[Interest]]+Table11[[#This Row],[Others, if any]]) -> 56542 | I18: INR | J18: 1 | K18: =(Table11[[#This Row],[Claim As per Form]]*Table11[[#This Row],[Foreign Currency Exchange Rate]]) -> 56542 | M18: =Table11[[#This Row],[Total Amount Claimed]] -> 56542 | N18: Unrelated | O18: NA | Q18: =SUM(K18,-M18,-P18) -> 0 | S18: PAN : BVQPP8041Q AADHAAR : 908824082410 | T18: Flat C 124, Krishna Apartments, Yella Reddy Guda,Ameerpet, Hyderabad – 500073, Telangana. | U18: narendra.palempati@gmail.com | V18: 8277107484
A19: 13 | B19: D - Workman/Employee | C19: Mani Paul Chinnam | D19: 44844 | E19: 149000 | F19: 0 | G19: 0 | H19: =(Table11[[#This Row],[Prinipal]]+Table11[[#This Row],[Interest]]+Table11[[#This Row],[Others, if any]]) -> 149000 | I19: INR | J19: 1 | K19: =(Table11[[#This Row],[Claim As per Form]]*Table11[[#This Row],[Foreign Currency Exchange Rate]]) -> 149000 | M19: =Table11[[#This Row],[Total Amount Claimed]] -> 149000 | N19: Unrelated | O19: NA | Q19: =SUM(K19,-M19,-P19) -> 0 | S19: PAN: ARDPC2702R AADHAR: 9314 6710 0614 | T19: H.No. 1-1-367/1, Plot No. 52, RBI Colony, Mohan Nagar, Kothapet, Hyderabad – 500 035, Telangana. | U19: manipaulchinnam@gmail.com | V19: 90520 66177
A20: 14 | B20: B - Operation Creditor | C20: Tera Software Limited | D20: 44844 | E20: 13091072 | F20: 4227593 | G20: 0 | H20: =(Table11[[#This Row],[Prinipal]]+Table11[[#This Row],[Interest]]+Table11[[#This Row],[Others, if any]]) -> 17318665 | I20: INR | J20: 1 | K20: =(Table11[[#This Row],[Claim As per Form]]*Table11[[#This Row],[Foreign Currency Exchange Rate]]) -> 17318665 | N20: Unrelated | O20: NA | Q20: =SUM(K20,-M20,-P20) -> 17318665 | R20: Tummala Gopichand (Chairman & MD) | S20: L72200TG1994PLC018391 | T20: 8-2-293/82/A/1107, Plot No. 1107, Road No.55 Jubliee Hills, Hyderabad, Telanaga 500033 | U20: babureddy@terasoftware.in accounts@terasoftware.in | V20: 99496 88896
A21: 15 | B21: F - Other than FC&OC | C21: Dep. Director, ESI Corporation | D21: 44844 | E21: 259868 | F21: 0 | G21: 11426 | H21: =(Table11[[#This Row],[Prinipal]]+Table11[[#This Row],[Interest]]+Table11[[#This Row],[Others, if any]]) -> 271294 | I21: INR | J21: 1 | K21: =(Table11[[#This Row],[Claim As per Form]]*Table11[[#This Row],[Foreign Currency Exchange Rate]]) -> 271294 | M21: 271294 | N21: Unrelated | O21: NA | Q21: =SUM(K21,-M21,-P21) -> 0 | R21: Rajeeva Nandan Ray (Deputy Direcrtor) | T21: Regional Office, ESI Corporation, #5-9-23, Hill Fort Road, Hyderabad 500063 | U21: legal.ts@esic.nic.in rd-telangana@esic.nic.in
A22: 16 | B22: D - Workman/Employee | C22: Jagadeesh Devarapalli | D22: 44844 | E22: 602238 | F22: 0 | G22: 0 | H22: =(Table11[[#This Row],[Prinipal]]+Table11[[#This Row],[Interest]]+Table11[[#This Row],[Others, if any]]) -> 602238 | I22: INR | J22: 1 | K22: =(Table11[[#This Row],[Claim As per Form]]*Table11[[#This Row],[Foreign Currency Exchange Rate]]) -> 602238 | M22: 0 | N22: Unrelated | O22: NA | Q22: =SUM(K22,-M22,-P22) -> 602238 | S22: AVXPD9225G, 956715826794 | T22: S/o. Appanna Devarapalli, H. No: 75, 3rd Street, Paul Nagar, Vizianagaram, AP 535003 | U22: jagadeesh011.mca@gmail.com
A23: 17 | B23: E - AR of Workman/Employee | C23: Balaram Sahu | D23: 44844 | E23: =(363672+111450) -> 475122 | F23: 0 | G23: 0 | H23: =(Table11[[#This Row],[Prinipal]]+Table11[[#This Row],[Interest]]+Table11[[#This Row],[Others, if any]]) -> 475122 | I23: INR | J23: 1 | K23: =(Table11[[#This Row],[Claim As per Form]]*Table11[[#This Row],[Foreign Currency Exchange Rate]]) -> 475122 | M23: 0 | N23: Unrelated | O23: NA | Q23: =SUM(K23,-M23,-P23) -> 475122 | S23: 5189 8455 6514 (Aadhar No) | T23: #202, Hills View Residency, Block A , Arilova Colony , Visakahapatnam 530040 | U23: sbalaram.hr@gmail.com
A24: 18 | B24: E - AR of Workman/Employee | C24: Mathumalli Vinod | D24: 44844 | E24: 310000 | F24: 0 | G24: 0 | H24: =(Table11[[#This Row],[Prinipal]]+Table11[[#This Row],[Interest]]+Table11[[#This Row],[Others, if any]]) -> 310000 | I24: INR | J24: 1 | K24: =(Table11[[#This Row],[Claim As per Form]]*Table11[[#This Row],[Foreign Currency Exchange Rate]]) -> 310000 | M24: 0 | N24: Unrelated | O24: NA | Q24: =SUM(K24,-M24,-P24) -> 310000 | S24: 689019806887 (Aadhaar No.) | T24: at post Jharapali, Ps Bheden, Dist Bargarh, Odisha 768103 | U24: mathumelivinod@gmail.com
A25: 19 | B25: E - AR of Workman/Employee | C25: Venu Sudheer K S | D25: 44844 | E25: 240000 | F25: 0 | G25: 0 | H25: =(Table11[[#This Row],[Prinipal]]+Table11[[#This Row],[Interest]]+Table11[[#This Row],[Others, if any]]) -> 240000 | I25: INR | J25: 1 | K25: =(Table11[[#This Row],[Claim As per Form]]*Table11[[#This Row],[Foreign Currency Exchange Rate]]) -> 240000 | M25: 0 | N25: Related | O25: Ex Director | Q25: =SUM(K25,-M25,-P25) -> 240000 | S25: 7151 9928 3631 (Aadhaar No.) | T25: 472, Channel Road, Ashoknagar Camp, Nalkudre, Davanagere, karnataka 577544 | U25: venusudheer@gmail.com
A26: 20 | B26: B - Operation Creditor | C26: Fastlane Americas, Inc | D26: 44843 | E26: 156000 | F26: 0 | G26: 0 | H26: =(Table11[[#This Row],[Prinipal]]+Table11[[#This Row],[Interest]]+Table11[[#This Row],[Others, if any]]) -> 156000 | I26: USD | J26: 79.6778 | K26: =(Table11[[#This Row],[Claim As per Form]]*Table11[[#This Row],[Foreign Currency Exchange Rate]]) -> 12429737 | N26: Related | O26: Ex Director | Q26: =SUM(K26,-M26,-P26) -> 12429737 | R26: Sreenivas Devalla (Director) | T26: 691 S Milpitas Blvd, #203, Milpitas, CA 95035 USA | U26: devalla@gmail.com
A27: 21 | B27: E - AR of Workman/Employee | C27: Arun Kumar | D27: 44843 | E27: 1005367 | F27: 0 | G27: 0 | H27: =(Table11[[#This Row],[Prinipal]]+Table11[[#This Row],[Interest]]+Table11[[#This Row],[Others, if any]]) -> 1005367 | I27: INR | J27: 1 | K27: =(Table11[[#This Row],[Claim As per Form]]*Table11[[#This Row],[Foreign Currency Exchange Rate]]) -> 1005367 | M27: 0 | N27: Unrelated | O27: NA | Q27: =SUM(K27,-M27,-P27) -> 1005367 | S27: 4444 1785 4438 (Aadhar No.) | T27: Flat G4, Amrutha Sai Residency, Esswar Villas Road, Nizampet Hyderabad, | U27: arun@arunkr.co.in | V27: 9866657921
A28: 22 | B28: E - AR of Workman/Employee | C28: Krishna Prasad V | D28: 44843 | E28: 126861 | F28: 0 | G28: 0 | H28: =(Table11[[#This Row],[Prinipal]]+Table11[[#This Row],[Interest]]+Table11[[#This Row],[Others, if any]]) -> 126861 | I28: INR | J28: 1 | K28: =(Table11[[#This Row],[Claim As per Form]]*Table11[[#This Row],[Foreign Currency Exchange Rate]]) -> 126861 | M28: 0 | N28: Unrelated | O28: NA | Q28: =SUM(K28,-M28,-P28) -> 126861 | S28: 9001 9294 8669 (Aadhaar No.) | T28: #3682/A 47, 8th Cross Main Road, Behind Vani Ricemill, Taralabalu Layout, Davanagere 577005 karnataka | U28: krishnapd.v6972@gmail.com
A29: 23 | B29: E - AR of Workman/Employee | C29: Naveen Kumar Moparthy | D29: 44842 | E29: 4500000 | F29: 742209 | G29: 0 | H29: =(Table11[[#This Row],[Prinipal]]+Table11[[#This Row],[Interest]]+Table11[[#This Row],[Others, if any]]) -> 5242209 | I29: INR | J29: 1 | K29: =(Table11[[#This Row],[Claim As per Form]]*Table11[[#This Row],[Foreign Currency Exchange Rate]]) -> 5242209 | M29: 0 | N29: Related | O29: Director | Q29: =SUM(K29,-M29,-P29) -> 5242209 | S29: 5832 9715 7377 (Aadhaar No.) | T29: H. No. 3-26, Takkelapadu post, Pedakakani Mandal, Guntur Dist., Andhra Pradesh - 522509 | U29: naveen2020@gmail.com
A30: 24 | B30: E - AR of Workman/Employee | C30: Chandrashekar M V | D30: 44843 | E30: 248200 | F30: 0 | G30: 0 | H30: =(Table11[[#This Row],[Prinipal]]+Table11[[#This Row],[Interest]]+Table11[[#This Row],[Others, if any]]) -> 248200 | I30: INR | J30: 1 | K30: =(Table11[[#This Row],[Claim As per Form]]*Table11[[#This Row],[Foreign Currency Exchange Rate]]) -> 248200 | M30: 0 | N30: Unrelated | O30: NA | Q30: =SUM(K30,-M30,-P30) -> 248200 | S30: 3518 7428 9728 (Aadhaar No.) | T30: #1725/B1, Chethana, 3rd Cross (SVS Convent road), Lenin Nagara, Nitavalli New extension, Davanagere 577004 | U30: chandru.cmv@gmail.com | V30: 9901772422
A31: 25 | B31: E - AR of Workman/Employee | C31: Aliya Begum | D31: 44843 | E31: 189826 | F31: 0 | G31: 0 | H31: =(Table11[[#This Row],[Prinipal]]+Table11[[#This Row],[Interest]]+Table11[[#This Row],[Others, if any]]) -> 189826 | I31: INR | J31: 1 | K31: =(Table11[[#This Row],[Claim As per Form]]*Table11[[#This Row],[Foreign Currency Exchange Rate]]) -> 189826 | M31: 0 | N31: Unrelated | O31: NA | Q31: =SUM(K31,-M31,-P31) -> 189826 | S31: 8103 4314 9334 (Aadhaar No.) | T31: H. No. 6-31242/58/6, MS Maktha, Opp. Rajbhavan, khairatabad, Hyderabad, Telangana 500082 | U31: aliyabegum0309@gmail.com | V31: 7337543366
A32: 26 | B32: E - AR of Workman/Employee | C32: Srinivasa Jayantha Kumar | D32: 44843 | E32: 787957 | F32: 0 | G32: 0 | H32: =(Table11[[#This Row],[Prinipal]]+Table11[[#This Row],[Interest]]+Table11[[#This Row],[Others, if any]]) -> 787957 | I32: INR | J32: 1 | K32: =(Table11[[#This Row],[Claim As per Form]]*Table11[[#This Row],[Foreign Currency Exchange Rate]]) -> 787957 | M32: 0 | N32: Unrelated | O32: NA | Q32: =SUM(K32,-M32,-P32) -> 787957 | S32: 3065 3938 0075 (Aadhaar No.) | T32: Plot No. 84, 4-7-12/84, Ravindra Nagar, Annapoorna Colony, Nacharam, Hyderabad Telangana 500076 | U32: kumar.srinivasa99@gmail.com
A33: 27 | B33: E - AR of Workman/Employee | C33: Uday Kiran U | D33: 44843 | E33: 10200000 | F33: 0 | G33: 0 | H33: =(Table11[[#This Row],[Prinipal]]+Table11[[#This Row],[Interest]]+Table11[[#This Row],[Others, if any]]) -> 10200000 | I33: INR | J33: 1 | K33: =(Table11[[#This Row],[Claim As per Form]]*Table11[[#This Row],[Foreign Currency Exchange Rate]]) -> 10200000 | M33: 0 | N33: Related | O33: Director | Q33: =SUM(K33,-M33,-P33) -> 10200000 | S33: 8629 1894 7014 (Aadhaar No.) | T33: #371, 3rd Cross, Remco BHEL Layout, Pattanagere Rajarajeshwari Nagar, Bengaluru 560098 | U33: udaykiran24@gmail.com | V33: 9739995111
A34: 28 | B34: E - AR of Workman/Employee | C34: Aditi Sharma | D34: 44843 | E34: 518395 | F34: 0 | G34: 0 | H34: =(Table11[[#This Row],[Prinipal]]+Table11[[#This Row],[Interest]]+Table11[[#This Row],[Others, if any]]) -> 518395 | I34: INR | J34: 1 | K34: =(Table11[[#This Row],[Claim As per Form]]*Table11[[#This Row],[Foreign Currency Exchange Rate]]) -> 518395 | M34: 0 | N34: Unrelated | O34: NA | Q34: =SUM(K34,-M34,-P34) -> 518395 | S34: PAN: CVSPS3573D Aadhaar: 2331 1514 5418 Employee ID: FIT078 | T34: B-155 Pallav Puram, Phase-I, Meerut - 250110, Uttar Pradesh, India | U34: cssharmaaditi@gmail.com | V34: 9711780217
A35: 29 | B35: E - AR of Workman/Employee | C35: Sandeep Katapatal | D35: 44843 | E35: 1210622.8 | F35: 0 | G35: 0 | H35: =(Table11[[#This Row],[Prinipal]]+Table11[[#This Row],[Interest]]+Table11[[#This Row],[Others, if any]]) -> 1210622.8 | I35: INR | J35: 1 | K35: =(Table11[[#This Row],[Claim As per Form]]*Table11[[#This Row],[Foreign Currency Exchange Rate]]) -> 1210622.8 | M35: 0 | N35: Unrelated | O35: NA | Q35: =SUM(K35,-M35,-P35) -> 1210622.8 | S35: 5690 6367 4272 (Aadhaar No.) | T35: S-10, Praneeth Pranav County, Patelguda Village, Beeramguda, Hyderabad - 502319 | U35: sandeep.katpatal@gmail.com | V35: 8121894020
A36: 30 | B36: E - AR of Workman/Employee | C36: Venkata Appala Ramana | D36: 44843 | E36: 3200000 | F36: 0 | G36: 0 | H36: =(Table11[[#This Row],[Prinipal]]+Table11[[#This Row],[Interest]]+Table11[[#This Row],[Others, if any]]) -> 3200000 | I36: INR | J36: 1 | K36: =(Table11[[#This Row],[Claim As per Form]]*Table11[[#This Row],[Foreign Currency Exchange Rate]]) -> 3200000 | M36: 0 | N36: Related | O36: Ex Director | Q36: =SUM(K36,-M36,-P36) -> 3200000 | S36: PAN: AECPA4908F | T36: 3-72/3/187, Puppalaguda, Ranga Reddy, Hyderabad, Telangana 500089 | U36: avramana_9@yahoo.com
A37: 31 | B37: E - AR of Workman/Employee | C37: Pradeep N | D37: 44843 | E37: 1219116 | F37: 0 | G37: 0 | H37: =(Table11[[#This Row],[Prinipal]]+Table11[[#This Row],[Interest]]+Table11[[#This Row],[Others, if any]]) -> 1219116 | I37: INR | J37: 1 | K37: =(Table11[[#This Row],[Claim As per Form]]*Table11[[#This Row],[Foreign Currency Exchange Rate]]) -> 1219116 | M37: 0 | N37: Unrelated | O37: NA | Q37: =SUM(K37,-M37,-P37) -> 1219116 | S37: 2449 4703 2880 (Aadhaar No.) | T37: #36 B2, SFS, 4th B Cross, 7th B Main, Yelahanka Newtown, Bangalore, karnataka 560064 | U37: pradeepn1381@gmail.com | V37: 9972444443
A38: 32 | B38: B - Operation Creditor | C38: Lapis Technologies | D38: 44842 | E38: 2047574 | F38: 1582721 | G38: 0 | H38: =(Table11[[#This Row],[Prinipal]]+Table11[[#This Row],[Interest]]+Table11[[#This Row],[Others, if any]]) -> 3630295 | I38: INR | J38: 1 | K38: =(Table11[[#This Row],[Claim As per Form]]*Table11[[#This Row],[Foreign Currency Exchange Rate]]) -> 3630295 | M38: 3630295 | N38: Unrelated | O38: NA | Q38: =SUM(K38,-M38,-P38) -> 0 | R38: T V Sudhakar (Proprietor) | S38: AECPT7181B | T38: D. No. 49-19-16/3, G-round Floor, Lalitha Nagar, Akkayyapalem, Visakhapatanam 530016 | U38: srikanth@lapistechnologies.in, tvsudhakar@lapistechnologies.in | V38: 9246946469
A39: 33 | B39: B - Operation Creditor | E39: 2047574 | F39: 1582721 | G39: 0 | H39: =(Table11[[#This Row],[Prinipal]]+Table11[[#This Row],[Interest]]+Table11[[#This Row],[Others, if any]]) -> 3630295 | K39: =(Table11[[#This Row],[Claim As per Form]]*Table11[[#This Row],[Foreign Currency Exchange Rate]]) -> 0 | Q39: =SUM(K39,-M39,-P39) -> 0

Sheet SUMMARY
A2: Filing under clause (ca) of sub-regulation (2) of Regulation 13 of the IBBI (Insolvency Resolution Process for Corporate Persons) Regulations, 2016
J3: Amount in Rs.
A4: Sl. No. | B4: Category of creditor | C4: Summary of claims received | E4: Summary of claims admitted | G4: Amount of Contengent claims | H4: Amount of claims not admitted | I4: Amount of claims under verification | J4: Details in Annexure | K4: Remarks, if any
C5: No. of claims | D5: Amount | E5: No. of claims | F5: Amount Admitted
A6: 1 | B6: Secured Financial Creditors belonging to any class of creditors | C6: ='Anx-1(SFCCC)'!S4 -> 1 | D6: ='Anx-1(SFCCC)'!D12 -> 31094533 | E6: =C6 -> 1 | F6: ='Anx-1(SFCCC)'!E12 -> 31094533 | G6: ='Anx-1(SFCCC)'!K12 -> 0 | H6: ='Anx-1(SFCCC)'!M12 -> 0 | I6: ='Anx-1(SFCCC)'!N12 -> 0 | J6: 1
A7: 2 | B7: Unsecured Financial Creditors belonging to any class of creditors | C7: ='Anx-2(USFCCC)'!R3 -> 0 | D7: ='Anx-2(USFCCC)'!D12 -> 0 | E7: =C7 -> 0 | F7: ='Anx-2(USFCCC)'!E12 -> 0 | G7: ='Anx-2(USFCCC)'!J12 -> 0 | H7: ='Anx-2(USFCCC)'!L12 -> 0 | I7: ='Anx-2(USFCCC)'!M12 -> 0 | J7: 2
A8: 3 | B8: Secured Financial Creditors (other than financial creditors belonging to any class of creditors) | C8: ='Anx-3(SFCOCC)'!S4 -> 0 | D8: ='Anx-3(SFCOCC)'!$D$13 -> 0 | E8: =C8 -> 0 | F8: ='Anx-3(SFCOCC)'!E13 -> 0 | G8: ='Anx-3(SFCOCC)'!K13 -> 0 | H8: ='Anx-3(SFCOCC)'!M13 -> 0 | I8: ='Anx-3(SFCOCC)'!N13 -> 0 | J8: 3
A9: 4 | B9: Unsecured Financial Creditors (other than financial creditors belonging to any class of creditors) | C9: ='Anx-4(USFCOCC)'!R4 -> 0 | D9: ='Anx-4(USFCOCC)'!$D$12 -> 0 | E9: =C9 -> 0 | F9: ='Anx-4(USFCOCC)'!$E$12 -> 0 | G9: ='Anx-4(USFCOCC)'!J12 -> 0 | H9: ='Anx-4(USFCOCC)'!L12 -> 0 | I9: ='Anx-4(USFCOCC)'!$M$12 -> 0 | J9: 4
A10: 5 | B10: Operational Creditors (Workmen) | C10: ='Anx-5(OC-Workn)'!R4 -> 0 | D10: ='Anx-5(OC-Workn)'!E12 -> 0 | E10: =C10 -> 0 | F10: ='Anx-5(OC-Workn)'!F12 -> 0 | G10: ='Anx-5(OC-Workn)'!J12 -> 0 | H10: ='Anx-5(OC-Workn)'!M12 -> 0 | I10: ='Anx-5(OC-Workn)'!L12 -> 0 | J10: 5
A11: 6 | B11: Operational Creditors (Employees) | C11: ='Anx-6(OC-Emp)'!R4 -> 0 | D11: ='Anx-6(OC-Emp)'!E31 -> 0 | E11: =C11 -> 0 | F11: ='Anx-6(OC-Emp)'!F31 -> 0 | G11: ='Anx-6(OC-Emp)'!J31 -> 0 | H11: ='Anx-6(OC-Emp)'!M31 -> 0 | I11: ='Anx-6(OC-Emp)'!L31 -> 0 | J11: 6
A12: 7 | B12: Operational Creditors (Government Dues) | C12: ='Anx-7(OC-Govt.)'!R4 -> 0 | D12: ='Anx-7(OC-Govt.)'!$E$13 -> 0 | E12: =C12 -> 0 | F12: ='Anx-7(OC-Govt.)'!$F$13 -> 0 | G12: ='Anx-7(OC-Govt.)'!J13 -> 0 | H12: ='Anx-7(OC-Govt.)'!M13 -> 0 | I12: ='Anx-7(OC-Govt.)'!L13 -> 0 | J12: 7
A13: 8 | B13: Operational Creditors (other than Workmen, Employees and Government Dues) | C13: ='Anx-8(OC)'!V4 -> 8 | D13: ='Anx-8(OC)'!G19 -> 0 | E13: =C13 -> 8 | F13: ='Anx-8(OC)'!$H$19 -> 0 | G13: ='Anx-8(OC)'!N19 -> 0 | H13: ='Anx-8(OC)'!P19 -> 0 | I13: ='Anx-8(OC)'!Q19 -> 0 | J13: 8
A14: 9 | B14: Other creditors, if any (other than financial creditors and operational creditors) | C14: ='Anx-9(Oth. Cr.)'!R4 -> 0 | D14: ='Anx-9(Oth. Cr.)'!D13 -> 0 | E14: =C14 -> 0 | F14: ='Anx-9(Oth. Cr.)'!E13 -> 0 | G14: ='Anx-9(Oth. Cr.)'!J13 -> 0 | H14: ='Anx-9(Oth. Cr.)'!L13 -> 0 | I14: ='Anx-9(Oth. Cr.)'!M13 -> 0 | J14: 9
A15: Total | C15: =SUM(C6:C14) -> 9 | D15: =SUM(D6:D14) -> 31094533 | E15: =SUM(E6:E14) -> 9 | F15: =SUM(F6:F14) -> 31094533 | G15: =SUM(G6:G14) -> 0 | H15: =SUM(H6:H14) -> 0 | I15: =SUM(I6:I14) -> 0
B18: This Summary Sheet is Auto Data Feed sheet. Do Not Enter Any Data/Make any changes here Unless it is necessary.

Sheet Anx-1(SFCCC)
A1: Annexure-1
A2: Name of the Corporate Debtor | D2: GUNDLATHOTI READY MIX CEMENT INDUSTRY PRIVATE LIMITED | I2: Date of Commencement of CIRP | M2: 11.09.2026
A3: List of Creditors as on 11.09.2026
A4: List of Secured Financial Creditors belonging to any Class of Creditors | R4: Total Claims Count | S4: =COUNT(A8:A11) -> 1
N5: Amount in Rs.
A6: Sl.No. | B6: Name of creditor | C6: Details of claim received | E6: Details of claim admitted | K6: Amount of contingent claim | L6: Amount of any Mutual dues, that may be set- off | M6: Amount of claim not admitted | N6: Amount of claim under verification | O6: Remarks, if any
C7: Date of receipt | D7: Amount claimed | E7: Amount of claim admitted | F7: Nature of claim | G7: Amount covered by Security interest | H7: Amount covered by guarantee | I7: Whether related party? | J7: % of voting share in CoC
A8: 1 | B8: IFCL Venture Capital Fund Limited - SC | C8: 30.09.2026 | D8: 31094533 | E8: 31094533 | F8: FC | G8: 0 | H8: 0 | I8: No | J8: 1 | K8: 0 | L8: 0 | M8: 0 | N8: 0 | O8: NIL
I9: - | N9: =SUM(D9-E9) -> 0
I10: - | N10: =SUM(D10-E10) -> 0
I11: - | N11: =SUM(D11-E11) -> 0
A12: Total | D12: =SUM(D8:D11) -> 31094533 | E12: =SUM(E8:E11) -> 31094533 | G12: =SUM(G8:G11) -> 0 | H12: =SUM(H8:H11) -> 0 | J12: =SUM(J8:J11) -> 1 | K12: =SUM(K8:K11) -> 0 | L12: =SUM(L8:L11) -> 0 | M12: =SUM(M8:M11) -> 0 | N12: =SUM(N8:N11) -> 0 | O12: NAP

Sheet Anx-2(USFCCC)
A1: Annexure-2
A2: Name of the Corporate Debtor | D2: Gundlathoti Ready Mix Cement Industry Private Limited | G2: Date of Commencement of CIRP | K2: 11.09.2026
A3: List of Creditors as on 11.09.2026 | Q3: Total Claims Count | R3: =COUNT(A8:A11) -> 0
A4: List of Unsecured Financial Creditors belonging to any Class of Creditors
M5: Amount in Rs.
A6: Sl.No | B6: Name of creditor | C6: Details of claim received | E6: Details of claim admitted | J6: Amount of contingent claim | K6: Amount of any mutual dues, that may be set- off | L6: Amount of claim not admitted | M6: Amount of claim under verification | N6: Remarks, if any
C7: Date of receipt | D7: Amount claimed | E7: Amount of claim admitted | F7: Nature of claim | G7: Amount covered by guarantee | H7: Whether related party? | I7: % of voting share in CoC
H8: - | M8: =SUM(D8-E8) -> 0
H9: - | M9: =SUM(D9-E9) -> 0
H10: - | M10: =SUM(D10-E10) -> 0
H11: - | M11: =SUM(D11-E11) -> 0
A12: Total | D12: =SUM(D8:D11) -> 0 | E12: =SUM(E8:E11) -> 0 | G12: =SUM(G8:G11) -> 0 | I12: =SUM(I8:I11) -> 0 | J12: =SUM(J8:J11) -> 0 | K12: =SUM(K8:K11) -> 0 | L12: =SUM(L8:L11) -> 0 | M12: =SUM(M8:M11) -> 0 | N12: NAP

Sheet Anx-3(SFCOCC)
A1: Annexure-3
A2: Name of the Corporate Debtor | D2: Gundlathoti Ready Mix Cement Industry Private Limited | H2: Date of Commencement of CIRP | L2: 11.09.2026
A3: List of Creditors as on 11.09.2026
A4: List of Secured Financial Creditors (other than financial creditors belonging to any Class of Creditors) | R4: Total Claims Count | S4: =COUNT(A8:A12) -> 0
N5: Amount in Rs.
A6: Sl.No. | B6: Name of creditor | C6: Details of claim received | E6: Details of claim admitted | K6: Amount of contingent claim | L6: Amount of any mutual dues, that may be set- off | M6: Amount of claim not admitted | N6: Amount of claim under verification | O6: Remarks, if any
C7: Date of receipt | D7: Amount claimed | E7: Amount of claim admitted | F7: Nature of claim | G7: Amount covered by Security interest | H7: Amount covered by guarantee | I7: Whether related party? | J7: % of voting share in CoC
I8: - | N8: =SUM(D8-E8) -> 0
I9: - | N9: =SUM(D9-E9) -> 0
I10: - | N10: =SUM(D10-E10) -> 0
I11: - | N11: =SUM(D11-E11) -> 0
I12: - | N12: =SUM(D12-E12) -> 0
A13: Total | D13: =SUM(D8:D12) -> 0 | E13: =SUM(E8:E12) -> 0 | G13: =SUM(G8:G12) -> 0 | H13: =SUM(H8:H12) -> 0 | J13: =SUM(J8:J12) -> 0 | K13: =SUM(K8:K12) -> 0 | L13: =SUM(L8:L12) -> 0 | M13: =SUM(M8:M12) -> 0 | N13: =SUM(N8:N12) -> 0

Sheet Anx-4(USFCOCC)
A1: Annexure-4
A2: Name of the Corporate Debtor | D2: Gundlathoti Ready Mix Cement Industry Private Limited | G2: Date of Commencement of CIRP | K2: 11.09.2026
A3: List of Creditors as on 11.09.2026
A4: List of Unsecured Financial Creditors (other than financial creditors belonging to any Class of Creditors) | Q4: Total Claims Count | R4: =COUNT(A8:A11) -> 0
M5: Amount in Rs.
A6: Sl.No | B6: Name of creditor | C6: Details of claim received | E6: Details of claim admitted | J6: Amount of contingent claim | K6: Amount of any mutual dues, that may be set- off | L6: Amount of claim not admitted | M6: Amount of claim under verification | N6: Remarks, if any
C7: Date of receipt | D7: Amount claimed | E7: Amount of claim admitted | F7: Nature of claim | G7: Amount covered by guarantee | H7: Whether related party? | I7: % of voting share in CoC
H9: - | M9: =SUM(D9-E9) -> 0
H10: - | M10: =SUM(D10-E10) -> 0
H11: - | M11: =SUM(D11-E11) -> 0
A12: Total | D12: =SUM(D8:D11) -> 0 | E12: =SUM(E8:E11) -> 0 | F12: =SUM(F8:F9) -> 0 | G12: =SUM(G8:G9) -> 0 | H12: =SUM(H8:H9) -> 0 | I12: =SUM(I8:I11) -> 0 | J12: =SUM(J8:J9) -> 0 | K12: =SUM(K8:K9) -> 0 | L12: =SUM(L8:L9) -> 0 | M12: =SUM(M8:M11) -> 0

Sheet Anx-5(OC-Workn)
A1: Annexure-5
A2: Name of the Corporate Debtor | C2: Gundlathoti Ready Mix Cement Industry Private Limited | H2: Date of Commencement of CIRP | K2: 11.09.2026
A3: List of Creditors as on 11.09.2026
A4: List of operational creditors (Workmen) | Q4: Total Claims Count | R4: =COUNT(A8:A11) -> 0
M5: Amount in Rs.
A6: Sl.No | B6: Name of the Authorised Representative, if any | C6: Name of workman | D6: Details of claim received | F6: Details of claim admitted | J6: Amount of contingent claim | K6: Amount of any mutual dues, that may be set- off | L6: Amount of claim under verification | M6: Amount of claim not admitted | N6: Remarks, if any
D7: Date of receipt | E7: Amount claimed | F7: Amount of claim admitted | G7: Nature of claim | H7: Whether related party? | I7: % of voting share in CoC, if applicable
H8: - | L8: =SUM(E8-F8) -> 0
H9: - | L9: =SUM(E9-F9) -> 0
H10: - | L10: =SUM(E10-F10) -> 0
H11: - | L11: =SUM(E11-F11) -> 0
A12: Total | E12: =SUM(E8:E11) -> 0 | F12: =SUM(F8:F11) -> 0 | I12: =SUM(I8:I11) -> 0 | J12: =SUM(J8:J11) -> 0 | K12: =SUM(K8:K11) -> 0 | L12: =SUM(L8:L11) -> 0 | M12: =SUM(M8:M11) -> 0

Sheet Anx-6(OC-Emp)
A1: Annexure-6
A2: Name of the Corporate Debtor | C2: Gundlathoti Ready Mix Cement Industry Private Limited | H2: Date of Commencement of CIRP | K2: 11.09.2026
A3: List of Creditors as on 11.09.2026
A4: List of operational creditors (Employees) | Q4: Total Claims Count | R4: =COUNT(A9:A30) -> 0
M6: Amount in Rs.
A7: Sl.No | B7: Name of the Authorised Representative, if any | C7: Name of creditor | D7: Details of claim received | F7: Details of claim admitted | J7: Amount of contingent claim | K7: Amount of any mutual dues, that may be set- off | L7: Amount of claim under verification | M7: Amount of claim not admitted | N7: Remarks, if any
D8: Date of receipt | E8: Amount claimed | F8: Amount of claim admitted | G8: Nature of claim | H8: Whether related party? | I8: % of voting share in CoC
A31: Total | E31: =SUM(E9:E30) -> 0 | F31: =SUM(F9:F30) -> 0 | I31: =SUM(I9:I30) -> 0 | J31: =SUM(J9:J30) -> 0 | K31: =SUM(K9:K30) -> 0 | L31: =SUM(L9:L30) -> 0 | M31: =SUM(M9:M30) -> 0

Sheet Anx-7(OC-Govt.)
A1: Annexure-7
A2: Name of the Corporate Debtor | D2: Gundlathoti Ready Mix Cement Industry Private Limited | H2: Date of Commencement of CIRP | J2: 46276
A3: List of Creditors as on 11.09.2026
A4: List of operational creditors (Government dues) | Q4: Total Claims Count | R4: =COUNT(A9:A12) -> 0
M6: Amount in Rs.
A7: Sl.No | B7: Details of claimant | D7: Details of claim received | F7: Details of claim admitted | J7: Amount of contingent claim | K7: Amount of any mutual dues, that may be set- off | L7: Amount of claim under verification | M7: Amount of claim not admitted | N7: Remarks, if any
B8: Department | C8: Government | D8: Date of receipt | E8: Amount claimed | F8: Amount of claim admitted | G8: Nature of claim | H8: Whether related party? | I8: % of voting share in CoC, if applicable
H10: - | L10: =SUM(E10-F10) -> 0
H11: - | L11: =SUM(E11-F11) -> 0
H12: - | L12: =SUM(E12-F12) -> 0
A13: Total | E13: =SUM(E9:E12) -> 0 | F13: =SUM(F9:F12) -> 0 | I13: =SUM(I9:I12) -> 0 | J13: =SUM(J9:J12) -> 0 | K13: =SUM(K11:K12) -> 0 | L13: =SUM(L9:L12) -> 0 | M13: =SUM(M9:M12) -> 0

Sheet Anx-8(OC)
A1: Annexure-8
A2: Name of the Corporate Debtor | D2: Gundlathoti Ready Mix Cement Industry Private Limited | K2: Date of Commecement of CIRP | O2: 46276
A3: List of Creditors as on 11-09-2026
A4: List of operational creditors (Other than Workmen and Employees and Govrnment dues) | U4: Total Claims Count | V4: =COUNT(A9:A18) -> 8
Q6: Amount in Rs.
A7: Sl.No | B7: Name of creditor | C7: Details of claim received | H7: Details of claim admitted | N7: Amount of contingent claim | O7: Amount of any mutual dues, that may be set- off | P7: Amount of claim not admitted | Q7: Amount of claim under verification | R7: Remarks, if any
C8: Date of receipt | D8: As per Form | E8: Currecny | F8: Exchange Rate | G8: Amount claimed (In Rs.) | H8: Amount of claim admitted | I8: Nature of claim | J8: Amount covered by Security interest | K8: Amount covered by guarantee | L8: Whether related party? | M8: % of voting share in CoC
A9: 1
A10: 2
A11: 3
A12: 4
A13: 5
A14: 6
A15: 7
A16: 8
L17: - | Q17: =SUM(G17-H17) -> 0
L18: - | Q18: =SUM(G18-H18) -> 0
A19: Total | G19: =SUM(G9:G18) -> 0 | H19: =SUM(H9:H18) -> 0 | I19: =SUM(I9:I18) -> 0 | J19: =SUM(J9:J17) -> 0 | K19: =SUM(K9:K17) -> 0 | M19: =SUM(M9:M17) -> 0 | N19: =SUM(N9:N17) -> 0 | O19: =SUM(O9:O17) -> 0 | P19: =SUM(P9:P17) -> 0 | Q19: =SUM(Q9:Q18) -> 0

Sheet Anx-9(Oth. Cr.)
A1: Annexure-9
A2: Name of the Corporate Debtor | C2: Gundlathoti Ready Mix Cement Industry Private Limited | H2: Date of Commecement of CIRP | K2: 46276
A3: List of Creditors as on 11-09-2026
A4: List of other creditors (Other than financial creditors and operational creditors) | Q4: Total Claims Count | R4: =COUNT(A10:A12) -> 0
M6: Amount in Rs.
A7: Sl.No | B7: Name of creditor | C7: Details of claim received | E7: Details of claim admitted | J7: Amount of contingent claim | K7: Amount of any mutual dues, that may be set- off | L7: Amount of claim not admitted | M7: Amount of claim under verification | N7: Remarks, if any
C8: Date of receipt | D8: Amount claimed | E8: Amount of claim admitted | F8: Nature of claim | G8: Amount covered by Security interest | H8: Amount covered by guarantee | I8: Whether related party?
I9: - | M9: 0
I10: - | M10: =SUM(D10-E10) -> 0
I11: - | M11: =SUM(D11-E11) -> 0
I12: - | M12: =SUM(D12-E12) -> 0
A13: Total | D13: =SUM(D10:D12) -> 0 | E13: =SUM(E9:E12) -> 0 | G13: =SUM(G9:G12) -> 0 | H13: =SUM(H9:H12) -> 0 | J13: =SUM(J9:J12) -> 0 | K13: =SUM(K9:K12) -> 0 | L13: =SUM(L9:L12) -> 0 | M13: =SUM(M9:M12) -> 0 | N13: NAP
